BEGIN:VCALENDAR
VERSION:2.0
PRODID:-//eventon.com NONSGML v1.0//EN
CALSCALE:GREGORIAN
METHOD:PUBLISH
BEGIN:VEVENT
UID:69eba64e76e4b
DTSTAMP:20260424T172014Z
DTSTART:20250915
DTEND:20250916
LOCATION:
SUMMARY:Workshop "Machine Learning for Cybersecurity (MLC)"
DESCRIPTION:Il workshop\,  che si terrà il 15 settembre a Porto in Portoga
 llo e che verrà coordinato Giseppina Andresini dello Spoke 6\,  nasce con 
 l’obiettivo di offrire una piattaforma di confronto tra ricercatori\,  es
 perti e professionisti per discutere sfide emergenti\,  condividere risulta
 ti scientifici recenti e promuovere l’innovazione nel campo del machine[.
 .]\nhttps://fondazione-fair.it/evento/workshop-machine-learning-for-cyberse
 curity-mlc/
URL:https://fondazione-fair.it/evento/workshop-machine-learning-for-cybersecurity-mlc/
END:VEVENT
END:VCALENDAR