BEGIN:VCALENDAR
VERSION:2.0
PRODID:-//eventon.com NONSGML v1.0//EN
CALSCALE:GREGORIAN
METHOD:PUBLISH
BEGIN:VEVENT
UID:69e7367ba2157
DTSTAMP:20260421T083403Z
DTSTART:20250908
DTEND:20250909
LOCATION:
SUMMARY:Summer School on Artificial Intelligence in Health and Life Sciences
DESCRIPTION:Dall&#8217;8 al 12 settembre 2025\,  l’Università Campus Bio
 -Medico di Roma ospiterà la Summer School on Artificial Intelligence in He
 alth and Life Sciences\,  una settimana di approfondimento e confronto dedi
 cata all’intelligenza artificiale applicata alla salute e alle scienze de
 lla vita\,  coordinata da Paolo Soda e Valerio Guarrasi (Spoke 3). La summe
 r[..]\nhttps://fondazione-fair.it/evento/summer-school-on-artificial-intell
 igence-in-health-and-life-sciences-2/
URL:https://fondazione-fair.it/evento/summer-school-on-artificial-intelligence-in-health-and-life-sciences-2/
END:VEVENT
END:VCALENDAR