BEGIN:VCALENDAR
VERSION:2.0
PRODID:-//eventon.com NONSGML v1.0//EN
CALSCALE:GREGORIAN
METHOD:PUBLISH
BEGIN:VEVENT
UID:69e5d895c9695
DTSTAMP:20260420T074109Z
DTSTART:20241125
DTEND:20241126
LOCATION:
SUMMARY:Workshop NL4AI 2024 on Natural Language Artificial Intelligence
DESCRIPTION:Dal 25 al 28 novembre\,  Bolzano ospiterÃ  il Workshop NL4AI 20
 24\,  un evento dedicato allâ€™intelligenza artificiale applicata al lingua
 ggio naturale\,  coordinato da Lucia Siciliani (Spoke 6). La ricerca sullâ€
 ™elaborazione del linguaggio naturale (Natural Language Processing\,  NLP) 
 rappresenta uno dei settori piÃ¹ rilevanti nellâ€™IA moderna\,  trovandosi 
 al crocevia tra apprendimento automatico\, [..]\nhttps://fondazione-fair.it
 /evento/workshop-nl4ai-2024-on-natural-language-artificial-intelligence/
URL:https://fondazione-fair.it/evento/workshop-nl4ai-2024-on-natural-language-artificial-intelligence/
END:VEVENT
END:VCALENDAR