BEGIN:VCALENDAR
VERSION:2.0
PRODID:-//eventon.com NONSGML v1.0//EN
CALSCALE:GREGORIAN
METHOD:PUBLISH
BEGIN:VEVENT
UID:69e74c2662512
DTSTAMP:20260421T100630Z
DTSTART:20241206T090000Z
DTEND:20241206T180000Z
LOCATION:
SUMMARY:AI Fairness: Adressing Bias\,  Stereotypes\,  and Discrimination in AI systems
DESCRIPTION:&#8220;AI Fairness: Addressing Bias\,  Stereotypes\,  and Discr
 imination in AI Systems&#8221; è un evento organizzato in collaborazione t
 ra il Progetto AEQUITAS e il Progetto FAIR\,  con l’obiettivo di approfon
 dire le sfide legate all&#8217;equità nell&#8217;intelligenza artificiale.
  L&#8217;evento mira a riunire esperti di IA\,  etica e policy per discuter
 e temi cruciali come pregiudizi\, [..]\nhttps://fondazione-fair.it/evento/s
 tereotypes-discrimination-in-ai-systems/
URL:https://fondazione-fair.it/evento/stereotypes-discrimination-in-ai-systems/
END:VEVENT
END:VCALENDAR