BEGIN:VCALENDAR
VERSION:2.0
PRODID:-//eventon.com NONSGML v1.0//EN
CALSCALE:GREGORIAN
METHOD:PUBLISH
BEGIN:VEVENT
UID:69e5d9c2eb808
DTSTAMP:20260420T074610Z
DTSTART:20241125T083000Z
DTEND:20241129T170000Z
LOCATION:
SUMMARY:11th Italian Workshop on Artificial Intelligence and Robotics (AIRO2024)
DESCRIPTION:Il Workshop AIRO 2024 &#8211; coordinato da Fabio Patrizi (La S
 apienza Università di Roma\,  Spoke 5) e da Gloria Beraldo (ricercatrice a
 ll&#8217;interno dello Spoke 10 del progetto PNRR FAIR)\,  e co-organizzato
  insieme a lei da Alberto Finzi e Alberto Castellini &#8211; si terrà nei 
 giorni dal 25 al 29 novembre[..]\nhttps://fondazione-fair.it/evento/11th-it
 alian-workshop-on-artificial-intelligence-and-robotics-airo2024/
URL:https://fondazione-fair.it/evento/11th-italian-workshop-on-artificial-intelligence-and-robotics-airo2024/
END:VEVENT
END:VCALENDAR