BEGIN:VCALENDAR
VERSION:2.0
PRODID:-//eventon.com NONSGML v1.0//EN
CALSCALE:GREGORIAN
METHOD:PUBLISH
BEGIN:VEVENT
UID:69e8a7ecd2c9d
DTSTAMP:20260422T105020Z
DTSTART:20241125T083000Z
DTEND:20241128T183000Z
LOCATION:
SUMMARY:XAI.it 2024 - 5th Italian Workshop on Explainable Artificial Intelligence
DESCRIPTION:L&#8217;evento\,  coordinato da Marco Polignano dello Spoke 6\,
   è co-locato all&#8217;interno della 23rd International Conference of the
  Italian Association for Artificial Intelligence (AIxIA 2024) e organizzato
  in collaborazione con FAIR. I sistemi di intelligenza artificiale stanno a
 ssumendo un ruolo sempre più centrale nella nostra vita quotidiana\,  rend
 endo essenziale che i[..]\nhttps://fondazione-fair.it/evento/xai-it-2024-5t
 h-italian-workshop-on-explainable-artificial-intelligence/
URL:https://fondazione-fair.it/evento/xai-it-2024-5th-italian-workshop-on-explainable-artificial-intelligence/
END:VEVENT
END:VCALENDAR