BEGIN:VCALENDAR
VERSION:2.0
PRODID:-//eventon.com NONSGML v1.0//EN
CALSCALE:GREGORIAN
METHOD:PUBLISH
BEGIN:VEVENT
UID:69e5d9f79c187
DTSTAMP:20260420T074703Z
DTSTART:20241125T083000Z
DTEND:20241128T183000Z
LOCATION:
SUMMARY:"Green-Aware Artificial Intelligence: Methods and Solutions to Improve AI Sustainability"
DESCRIPTION:Nell&#8217;ambito della 23rd International Conference of the It
 alian Association for Artificial Intelligence (AIxIA2024)\,  che si terrà 
 dal 25 al 28 novembre 2024 a Bolzano\,  lo Spoke 9 di FAIR organizza il wor
 kshop intitolato &#8220;Green-Aware Artificial Intelligence: Methods and So
 lutions to Improve AI Sustainability&#8221;\,  coordinato da Dipanwita Thak
 ur\,  Riccardo Cantini e[..]\nhttps://fondazione-fair.it/evento/green-aware
 -artificial-intelligence-methods-and-solutions-to-improve-ai-sustainability
 /
URL:https://fondazione-fair.it/evento/green-aware-artificial-intelligence-methods-and-solutions-to-improve-ai-sustainability/
END:VEVENT
END:VCALENDAR