BEGIN:VCALENDAR
VERSION:2.0
PRODID:-//eventon.com NONSGML v1.0//EN
CALSCALE:GREGORIAN
METHOD:PUBLISH
BEGIN:VEVENT
UID:69e69c1ed2996
DTSTAMP:20260420T213526Z
DTSTART:20241010
DTEND:20241011
LOCATION:
SUMMARY:PILM2024: Workshop on Personalized Incremental Learning in Medicine
DESCRIPTION:PILM2024 è un workshop\,  coordinato da Giovanni Bellitto dell
 o Spoke 10\,  che si terrà il 10 ottobre 2024 a Marrakesh durante la confe
 renza MICCAI 2024. Il focus sarà proiettato sull’applicazione del machin
 e learning per la medicina personalizzata\,  affrontando le problematiche l
 egate all&#8217;addestramento di modelli di reti neurali con l&#8217;utiliz
 zo di[..]\nhttps://fondazione-fair.it/evento/pilm2024-workshop-machine-lear
 ning/
URL:https://fondazione-fair.it/evento/pilm2024-workshop-machine-learning/
END:VEVENT
END:VCALENDAR