BEGIN:VCALENDAR
VERSION:2.0
PRODID:-//eventon.com NONSGML v1.0//EN
CALSCALE:GREGORIAN
METHOD:PUBLISH
BEGIN:VEVENT
UID:69e8a8452bf7e
DTSTAMP:20260422T105149Z
DTSTART:20241011T080000Z
DTEND:20241011T155500Z
LOCATION:
SUMMARY:Intelligenza Artificiale e Robotica: verso un’integrazione sinergica
DESCRIPTION:Il Gruppo di Lavoro in AI e Robotica (AIRO) della Associazione 
 Italiana per l’Intelligenza Artificiale (AIxIA)\,  in collaborazione con 
 SIRI (Associazione Italiana di Robotica ed Automazione) e con la Fondazione
  FAIR organizza &#8220;Intelligenza Artificiale e Robotica: verso un’inte
 grazione sinergica&#8221;\,  una sessione divulgativa che si svolgerà vene
 rdì 11 ottobre 2024 all&#8217;interno[..]\nhttps://fondazione-fair.it/even
 to/intelligenza-artificiale-e-robotica-verso-unintegrazione-sinergica/
URL:https://fondazione-fair.it/evento/intelligenza-artificiale-e-robotica-verso-unintegrazione-sinergica/
END:VEVENT
END:VCALENDAR