BEGIN:VCALENDAR
VERSION:2.0
PRODID:-//eventon.com NONSGML v1.0//EN
CALSCALE:GREGORIAN
METHOD:PUBLISH
BEGIN:VEVENT
UID:69e6afc9f37aa
DTSTAMP:20260420T225921Z
DTSTART:20240705T073000Z
DTEND:20240705T110000Z
LOCATION:
SUMMARY:Intelligenza artificiale: evoluzione rivoluzionaria
DESCRIPTION:Convegno sull&#8217;intelligenza artificiale promosso da Banca 
 Mediolanum che si terrà il 5 luglio 2024 presso la Camera di Commercio di 
 Bari. Tra gli ospiti anche Donato Malerba (Università di Bari &#8220;Aldo 
 Moro&#8221;) e coordinatore dello spoke 6. L&#8217;evento è organizzato co
 n il patrocinio di FAIR. Intervengono: Ugo Lombardi\,  Network Regional[..]
 \nhttps://fondazione-fair.it/evento/intelligenza-artificiale-evoluzione-riv
 oluzionaria/
URL:https://fondazione-fair.it/evento/intelligenza-artificiale-evoluzione-rivoluzionaria/
END:VEVENT
END:VCALENDAR