BEGIN:VCALENDAR
VERSION:2.0
PRODID:-//eventon.com NONSGML v1.0//EN
CALSCALE:GREGORIAN
METHOD:PUBLISH
BEGIN:VEVENT
UID:69ec0edea1778
DTSTAMP:20260425T004622Z
DTSTART:20240624T070000Z
DTEND:20240626T160000Z
LOCATION:
SUMMARY:Algorithms' Impact on Artificial Intelligence” (AI2)
DESCRIPTION:Algorithms&#8217; Impact on Artificial Intelligence è un works
 hop organizzato dai membri del GNCS (Gruppo Nazionale per il Calcolo Scient
 ifico)\,  affiliato sia al Dipartimento di Informatica che al Dipartimento 
 di Matematica dell&#8217;Università degli Studi di Bari Aldo Moro\,  in co
 llaborazione con FAIR. I temi affrontati saranno diversi e multidisciplinar
 i: in particolare\, [..]\nhttps://fondazione-fair.it/evento/algorithms-impa
 ct-on-artificial-intelligence-ai2/
URL:https://fondazione-fair.it/evento/algorithms-impact-on-artificial-intelligence-ai2/
END:VEVENT
END:VCALENDAR