BEGIN:VCALENDAR
VERSION:2.0
PRODID:-//eventon.com NONSGML v1.0//EN
CALSCALE:GREGORIAN
METHOD:PUBLISH
BEGIN:VEVENT
UID:69e7345d62527
DTSTAMP:20260421T082501Z
DTSTART:20240320T160000Z
DTEND:20240320T190000Z
LOCATION:
SUMMARY:AI Film Festival - Proiezione del film Terminator 2 - Judgement Day
DESCRIPTION:Da febbraio a maggio\,  la rassegna cinematografica “Pre-Visi
 oni di Intelligenza Artificiale”\,  organizzata dal Centro Alma Human AI 
 dell’Alma Mater Studiorum – Università di Bologna in collaborazione co
 n FAIR\,  offrirà momenti di riflessione prima di ogni film\,  per far rif
 lettere sull’avanzamento e lo sviluppo dell’AI e per scoprire quanta pa
 rte delle[..]\nhttps://fondazione-fair.it/evento/ai-film-festival-proiezion
 e-del-film-terminator-2-judgement-day/
URL:https://fondazione-fair.it/evento/ai-film-festival-proiezione-del-film-terminator-2-judgement-day/
END:VEVENT
END:VCALENDAR