BEGIN:VCALENDAR
VERSION:2.0
PRODID:-//eventon.com NONSGML v1.0//EN
CALSCALE:GREGORIAN
METHOD:PUBLISH
BEGIN:VEVENT
UID:69e7367b70e8c
DTSTAMP:20260421T083403Z
DTSTART:20240419T150000Z
DTEND:20240419T163000Z
LOCATION:https://unitn.zoom.us/j/87367198064
SUMMARY:Webinar su AI Act - General purpose AI
DESCRIPTION:In previsione della prossima approvazione dell’AI Act\,  un c
 iclo di incontri di taglio agile per introdurre anche i non giuristi a ques
 ta importante novità normativa e chiarire i principi base e la struttura d
 el regolamento. Il ciclo di webinar è promosso dall&#8217;Università di T
 rento nell&#8217;ambito delle attività del Transversal Project[..]\nhttps:
 //fondazione-fair.it/evento/ai-act-seminario-4/
URL:https://fondazione-fair.it/evento/ai-act-seminario-4/
END:VEVENT
END:VCALENDAR